BEGIN:VCALENDAR
VERSION:2.0
PRODID:-//ShepherdNSheep Evangelism &amp; Missions Ministry, Inc. (SNS) - ECPv6.15.20//NONSGML v1.0//EN
CALSCALE:GREGORIAN
METHOD:PUBLISH
X-WR-CALNAME:ShepherdNSheep Evangelism &amp; Missions Ministry, Inc. (SNS)
X-ORIGINAL-URL:https://shepherdnsheep.org
X-WR-CALDESC:Events for ShepherdNSheep Evangelism &amp; Missions Ministry, Inc. (SNS)
REFRESH-INTERVAL;VALUE=DURATION:PT1H
X-Robots-Tag:noindex
X-PUBLISHED-TTL:PT1H
BEGIN:VTIMEZONE
TZID:America/Chicago
BEGIN:DAYLIGHT
TZOFFSETFROM:-0600
TZOFFSETTO:-0500
TZNAME:CDT
DTSTART:20250309T080000
END:DAYLIGHT
BEGIN:STANDARD
TZOFFSETFROM:-0500
TZOFFSETTO:-0600
TZNAME:CST
DTSTART:20251102T070000
END:STANDARD
BEGIN:DAYLIGHT
TZOFFSETFROM:-0600
TZOFFSETTO:-0500
TZNAME:CDT
DTSTART:20260308T080000
END:DAYLIGHT
BEGIN:STANDARD
TZOFFSETFROM:-0500
TZOFFSETTO:-0600
TZNAME:CST
DTSTART:20261101T070000
END:STANDARD
BEGIN:DAYLIGHT
TZOFFSETFROM:-0600
TZOFFSETTO:-0500
TZNAME:CDT
DTSTART:20270314T080000
END:DAYLIGHT
BEGIN:STANDARD
TZOFFSETFROM:-0500
TZOFFSETTO:-0600
TZNAME:CST
DTSTART:20271107T070000
END:STANDARD
END:VTIMEZONE
BEGIN:VEVENT
DTSTART;TZID=America/Chicago:20260305T190000
DTEND;TZID=America/Chicago:20260305T190000
DTSTAMP:20260419T084742
CREATED:20260107T200404Z
LAST-MODIFIED:20260130T192234Z
UID:311-1772737200-1772737200@shepherdnsheep.org
SUMMARY:Evangelism Training
DESCRIPTION:Evangelism Training Beginning Thursday\, March 5\, 2026 at 7 pm and continuing each Thursday thereafter for 6 weeks. No cost to attend. \nPlease complete our volunteer form on this website and indicate you want to attend Evangelism Training on March 5. Please email victoria@shepherdNsheep.org if you have questions or concerns. \nDeadline to register is February 26\, 2026. Space is limited to 25 people\, so please register soon.
URL:https://shepherdnsheep.org/event/evangelism-training/
LOCATION:One Church at Harvest Point\, 2450 Garden Rd.\, Pearland\, TX\, 77581\, United States
END:VEVENT
END:VCALENDAR